BEGIN:VCALENDAR
VERSION:2.0
PRODID:-//hacksw/handcal//NONSGML v1.0//EN
BEGIN:VEVENT
DTSTAMP:20161125T230000Z
DTSTART:20161125T230000Z
DTEND:20161125T230000Z
LOCATION:Ostholstein, Deutschland
SUMMARY:SHR in Ostholstein
END:VEVENT
END:VCALENDAR
