BEGIN:VCALENDAR
VERSION:2.0
PRODID:-//hacksw/handcal//NONSGML v1.0//EN
BEGIN:VEVENT
DTSTAMP:20160623T173000Z
DTSTART:20160623T173000Z
DTEND:20160623T173000Z
LOCATION:CDU Kreisgeschäftsstelle, Hamburgerstraße 7, Heide, Deutschland
SUMMARY:[JU Dithmarschen] Milchbauern in der Krise - Programmatiksitzung
END:VEVENT
END:VCALENDAR
