BEGIN:VCALENDAR
VERSION:2.0
PRODID:-//hacksw/handcal//NONSGML v1.0//EN
BEGIN:VEVENT
DTSTAMP:20160417T220000Z
DTSTART:20160417T220000Z
DTEND:20160417T220000Z
SUMMARY:[CDU SH] Konferenz der Kandidaten für die Landtagswahl
END:VEVENT
END:VCALENDAR
