BEGIN:VCALENDAR
VERSION:2.0
PRODID:-//hacksw/handcal//NONSGML v1.0//EN
BEGIN:VEVENT
DTSTAMP:20151128T180000Z
DTSTART:20151128T180000Z
DTEND:20151128T180000Z
LOCATION:Hotel Neuwarft, Nordseestraße 20, Dagebüll-Mole, Deutschland
SUMMARY:[JU Nordfriesland] Weihnachtsfeier
END:VEVENT
END:VCALENDAR
