BEGIN:VCALENDAR
VERSION:2.0
PRODID:-//hacksw/handcal//NONSGML v1.0//EN
BEGIN:VEVENT
DTSTAMP:20151118T230000Z
DTSTART:20151118T230000Z
DTEND:20151118T230000Z
SUMMARY:[JU Pinneberg] Besuch der Pinneberger Synagoge
END:VEVENT
END:VCALENDAR
