BEGIN:VCALENDAR
VERSION:2.0
PRODID:-//hacksw/handcal//NONSGML v1.0//EN
BEGIN:VEVENT
DTSTAMP:20151028T183000Z
DTSTART:20151028T183000Z
DTEND:20151028T183000Z
LOCATION:Künstlerhaus Lauenburg/ Elbe,, Elbstraße 54,, Lauenburg/ Elbe, 21481, Deutschland
SUMMARY:Get Together
END:VEVENT
END:VCALENDAR
